BEGIN:VCALENDAR
VERSION:2.0
PRODID:-//wp-events-plugin.com//7.2.3.1//EN
TZID:Europe/Berlin
X-WR-TIMEZONE:Europe/Berlin
BEGIN:VEVENT
UID:10@moabiter-filmkultur.de
DTSTART;TZID=Europe/Berlin:20260509T180000
DTEND;TZID=Europe/Berlin:20260509T180000
DTSTAMP:20260423T140818Z
URL:https://moabiter-filmkultur.de/events/kino-fuer-moabit-praesentiert-7/
SUMMARY:KINO für MOABIT präsentiert
DESCRIPTION:Charlie Chaplin\nTHE CIRCUS\, 1928\, 69 min
LOCATION:Kulturmanege Moabit\, Ottoplatz\, Alt-Moabit 34\, Berlin\, 10555\,
  Deutschland
X-APPLE-STRUCTURED-LOCATION;VALUE=URI;X-ADDRESS=Ottoplatz\, Alt-Moabit 34\,
  Berlin\, 10555\, Deutschland;X-APPLE-RADIUS=100;X-TITLE=Kulturmanege Moab
 it:geo:0,0
END:VEVENT
BEGIN:VTIMEZONE
TZID:Europe/Berlin
X-LIC-LOCATION:Europe/Berlin
BEGIN:DAYLIGHT
DTSTART:20260329T030000
TZOFFSETFROM:+0100
TZOFFSETTO:+0200
TZNAME:CEST
END:DAYLIGHT
END:VTIMEZONE
END:VCALENDARBEGIN:VCALENDAR
VERSION:2.0
PRODID:-//wp-events-plugin.com//7.2.3.1//EN
TZID:Europe/Berlin
X-WR-TIMEZONE:Europe/Berlin
BEGIN:VEVENT
UID:10@moabiter-filmkultur.de
DTSTART;TZID=Europe/Berlin:20260509T180000
DTEND;TZID=Europe/Berlin:20260509T180000
DTSTAMP:20260423T140818Z
URL:https://moabiter-filmkultur.de/events/kino-fuer-moabit-praesentiert-7/
SUMMARY:KINO für MOABIT präsentiert
DESCRIPTION:Charlie Chaplin\nTHE CIRCUS\, 1928\, 69 min
LOCATION:Kulturmanege Moabit\, Ottoplatz\, Alt-Moabit 34\, Berlin\, 10555\,
  Deutschland
X-APPLE-STRUCTURED-LOCATION;VALUE=URI;X-ADDRESS=Ottoplatz\, Alt-Moabit 34\,
  Berlin\, 10555\, Deutschland;X-APPLE-RADIUS=100;X-TITLE=Kulturmanege Moab
 it:geo:0,0
END:VEVENT
BEGIN:VTIMEZONE
TZID:Europe/Berlin
X-LIC-LOCATION:Europe/Berlin
BEGIN:DAYLIGHT
DTSTART:20260329T030000
TZOFFSETFROM:+0100
TZOFFSETTO:+0200
TZNAME:CEST
END:DAYLIGHT
END:VTIMEZONE
END:VCALENDAR